BEGIN:VCALENDAR
VERSION:2.0
PRODID:-//DVORA DAVIS - ECPv6.15.11//NONSGML v1.0//EN
CALSCALE:GREGORIAN
METHOD:PUBLISH
X-WR-CALNAME:DVORA DAVIS
X-ORIGINAL-URL:https://dvoradavis.com
X-WR-CALDESC:Events for DVORA DAVIS
REFRESH-INTERVAL;VALUE=DURATION:PT1H
X-Robots-Tag:noindex
X-PUBLISHED-TTL:PT1H
BEGIN:VTIMEZONE
TZID:Europe/Berlin
BEGIN:DAYLIGHT
TZOFFSETFROM:+0100
TZOFFSETTO:+0200
TZNAME:CEST
DTSTART:20240331T010000
END:DAYLIGHT
BEGIN:STANDARD
TZOFFSETFROM:+0200
TZOFFSETTO:+0100
TZNAME:CET
DTSTART:20241027T010000
END:STANDARD
BEGIN:DAYLIGHT
TZOFFSETFROM:+0100
TZOFFSETTO:+0200
TZNAME:CEST
DTSTART:20250330T010000
END:DAYLIGHT
BEGIN:STANDARD
TZOFFSETFROM:+0200
TZOFFSETTO:+0100
TZNAME:CET
DTSTART:20251026T010000
END:STANDARD
BEGIN:DAYLIGHT
TZOFFSETFROM:+0100
TZOFFSETTO:+0200
TZNAME:CEST
DTSTART:20260329T010000
END:DAYLIGHT
BEGIN:STANDARD
TZOFFSETFROM:+0200
TZOFFSETTO:+0100
TZNAME:CET
DTSTART:20261025T010000
END:STANDARD
END:VTIMEZONE
BEGIN:VEVENT
DTSTART;TZID=Europe/Berlin:20251106T200000
DTEND;TZID=Europe/Berlin:20251106T220000
DTSTAMP:20260425T224148
CREATED:20250714T203426Z
LAST-MODIFIED:20250827T212103Z
UID:616-1762459200-1762466400@dvoradavis.com
SUMMARY:LANDGASTHOF OCHSEN - SOUL THRIVERS
DESCRIPTION:Tickets: \nhttps://www.eventim-light.com/de/a/5bcf81d736340e0001a1415c/e/68a79251ded6182be78ce995
URL:https://dvoradavis.com/event/landgasthof-ochsen-soul-thrivers/
LOCATION:LANDGASTHOF OCHSEN\, LANDGASTHOF OCHSEN\, Hauptstraße 83\, 76547 Sinzheim\, Germany
END:VEVENT
END:VCALENDAR