BEGIN:VCALENDAR
VERSION:2.0
PRODID:-//DVORA DAVIS - ECPv6.15.11//NONSGML v1.0//EN
CALSCALE:GREGORIAN
METHOD:PUBLISH
X-WR-CALNAME:DVORA DAVIS
X-ORIGINAL-URL:https://dvoradavis.com
X-WR-CALDESC:Events for DVORA DAVIS
REFRESH-INTERVAL;VALUE=DURATION:PT1H
X-Robots-Tag:noindex
X-PUBLISHED-TTL:PT1H
BEGIN:VTIMEZONE
TZID:Europe/Berlin
BEGIN:DAYLIGHT
TZOFFSETFROM:+0100
TZOFFSETTO:+0200
TZNAME:CEST
DTSTART:20250330T010000
END:DAYLIGHT
BEGIN:STANDARD
TZOFFSETFROM:+0200
TZOFFSETTO:+0100
TZNAME:CET
DTSTART:20251026T010000
END:STANDARD
BEGIN:DAYLIGHT
TZOFFSETFROM:+0100
TZOFFSETTO:+0200
TZNAME:CEST
DTSTART:20260329T010000
END:DAYLIGHT
BEGIN:STANDARD
TZOFFSETFROM:+0200
TZOFFSETTO:+0100
TZNAME:CET
DTSTART:20261025T010000
END:STANDARD
BEGIN:DAYLIGHT
TZOFFSETFROM:+0100
TZOFFSETTO:+0200
TZNAME:CEST
DTSTART:20270328T010000
END:DAYLIGHT
BEGIN:STANDARD
TZOFFSETFROM:+0200
TZOFFSETTO:+0100
TZNAME:CET
DTSTART:20271031T010000
END:STANDARD
END:VTIMEZONE
BEGIN:VEVENT
DTSTART;TZID=Europe/Berlin:20260306T200000
DTEND;TZID=Europe/Berlin:20260306T233000
DTSTAMP:20260425T154611
CREATED:20260205T230734Z
LAST-MODIFIED:20260205T230840Z
UID:748-1772827200-1772839800@dvoradavis.com
SUMMARY:SPEICHES R&B KNEIPE - SOUL THRIVERS TRIO
DESCRIPTION:
URL:https://dvoradavis.com/event/speiches-rb-kneipe/
LOCATION:Speiches\, Raumerstraße 39\,\, Berlin\, 10437 Berlin\, Germany
END:VEVENT
END:VCALENDAR